BEGIN:VCALENDAR
VERSION:2.0
PRODID:-//Bear Mountain Resort Community - ECPv6.15.18//NONSGML v1.0//EN
CALSCALE:GREGORIAN
METHOD:PUBLISH
X-WR-CALNAME:Bear Mountain Resort Community
X-ORIGINAL-URL:https://bearmountain.ca
X-WR-CALDESC:Events for Bear Mountain Resort Community
REFRESH-INTERVAL;VALUE=DURATION:PT1H
X-Robots-Tag:noindex
X-PUBLISHED-TTL:PT1H
BEGIN:VTIMEZONE
TZID:America/Vancouver
BEGIN:DAYLIGHT
TZOFFSETFROM:-0800
TZOFFSETTO:-0700
TZNAME:PDT
DTSTART:20190310T100000
END:DAYLIGHT
BEGIN:STANDARD
TZOFFSETFROM:-0700
TZOFFSETTO:-0800
TZNAME:PST
DTSTART:20191103T090000
END:STANDARD
BEGIN:DAYLIGHT
TZOFFSETFROM:-0800
TZOFFSETTO:-0700
TZNAME:PDT
DTSTART:20200308T100000
END:DAYLIGHT
BEGIN:STANDARD
TZOFFSETFROM:-0700
TZOFFSETTO:-0800
TZNAME:PST
DTSTART:20201101T090000
END:STANDARD
BEGIN:DAYLIGHT
TZOFFSETFROM:-0800
TZOFFSETTO:-0700
TZNAME:PDT
DTSTART:20210314T100000
END:DAYLIGHT
BEGIN:STANDARD
TZOFFSETFROM:-0700
TZOFFSETTO:-0800
TZNAME:PST
DTSTART:20211107T090000
END:STANDARD
END:VTIMEZONE
BEGIN:VEVENT
DTSTART;TZID=America/Vancouver:20200620T170000
DTEND;TZID=America/Vancouver:20200620T210000
DTSTAMP:20260421T101508
CREATED:20200614T045154Z
LAST-MODIFIED:20200614T051248Z
UID:122064-1592672400-1592686800@bearmountain.ca
SUMMARY:Father's Day Prime Rib Feast
DESCRIPTION:Treat dad to a delicious dinner at The Westin Bear Mountain this Father’s Day. Executive Chef Justin Weber is delivering his mouth-watering prime rib that will truly show him much you care. This three course meal is only $49 and happening Saturday\, June 20 and Sunday\, June 21 from 5-9pm. Our Sommelier has also created pairings for any palate with a whiskey\, wine or beer option\, only an additional $19. Reservations are advised as there is limited seating available. Call 250-391-7160 to get that special guy a seat at the Father’s Day Prime Rib Feast.
URL:https://bearmountain.ca/event/fathers-day-prime-rib-feast/2020-06-20/
LOCATION:Bear Mountain Resort\, 1999 Country Club Way\, Victoria\, British Columbia\, V9B 6R3\, Canada
CATEGORIES:Bella,Dining,Masters Lounge
ORGANIZER;CN="Bear Mountain Resort":MAILTO:concierge@westinbearmountain.com
GEO:48.4781964;-123.5284145
X-APPLE-STRUCTURED-LOCATION;VALUE=URI;X-ADDRESS=Bear Mountain Resort 1999 Country Club Way Victoria British Columbia V9B 6R3 Canada;X-APPLE-RADIUS=500;X-TITLE=1999 Country Club Way:geo:-123.5284145,48.4781964
END:VEVENT
END:VCALENDAR